BEGIN:VCALENDAR
VERSION:2.0
PRODID:-//Michigan Psychic Fair - ECPv6.15.16//NONSGML v1.0//EN
CALSCALE:GREGORIAN
METHOD:PUBLISH
X-WR-CALNAME:Michigan Psychic Fair
X-ORIGINAL-URL:https://mipsychicfair.com
X-WR-CALDESC:Events for Michigan Psychic Fair
REFRESH-INTERVAL;VALUE=DURATION:PT1H
X-Robots-Tag:noindex
X-PUBLISHED-TTL:PT1H
BEGIN:VTIMEZONE
TZID:America/Detroit
BEGIN:DAYLIGHT
TZOFFSETFROM:-0500
TZOFFSETTO:-0400
TZNAME:EDT
DTSTART:20250309T070000
END:DAYLIGHT
BEGIN:STANDARD
TZOFFSETFROM:-0400
TZOFFSETTO:-0500
TZNAME:EST
DTSTART:20251102T060000
END:STANDARD
BEGIN:DAYLIGHT
TZOFFSETFROM:-0500
TZOFFSETTO:-0400
TZNAME:EDT
DTSTART:20260308T070000
END:DAYLIGHT
BEGIN:STANDARD
TZOFFSETFROM:-0400
TZOFFSETTO:-0500
TZNAME:EST
DTSTART:20261101T060000
END:STANDARD
BEGIN:DAYLIGHT
TZOFFSETFROM:-0500
TZOFFSETTO:-0400
TZNAME:EDT
DTSTART:20270314T070000
END:DAYLIGHT
BEGIN:STANDARD
TZOFFSETFROM:-0400
TZOFFSETTO:-0500
TZNAME:EST
DTSTART:20271107T060000
END:STANDARD
END:VTIMEZONE
BEGIN:VEVENT
DTSTART;TZID=America/Detroit:20260419T120000
DTEND;TZID=America/Detroit:20260419T180000
DTSTAMP:20260424T115736
CREATED:20260309T201053Z
LAST-MODIFIED:20260413T185510Z
UID:5781-1776600000-1776621600@mipsychicfair.com
SUMMARY:Michigan Psychic Fair at Hyatt House in Lake Orion\, MI
DESCRIPTION:Come visit one of Michigan’s best psychics!\n\nA fun & unique venue to get a reading\, get guidance\, connect with a loved one on the other side\, have an energy healing\, and much more. Conveniently available at various locations in the Detroit Metro Area.\n\n✨ VENDORS: New Readers and Vendors apply to join our event by calling Pauline at 586-219-6360\n\n✨ JOIN OUR NEWSLETTER Psychic Readings\, Mediumship\, Tarot-readings\, Palmistry & Healings & More\nhttps://mailchi.mp/michiganpsychicfair/do0b4sj7gl
URL:https://mipsychicfair.com/event/michigan-psychic-fair-at-hyatt-house-3/
LOCATION:Lake Orion Twp. – Hyatt House\, 95 Brown Road\, Lake Orion\, MI\, 48359\, United States
CATEGORIES:EXPO,FAIR
ATTACH;FMTTYPE=image/jpeg:https://mipsychicfair.com/wp-content/uploads/2025/10/16-1.jpg
END:VEVENT
BEGIN:VEVENT
DTSTART;TZID=America/Detroit:20260412T120000
DTEND;TZID=America/Detroit:20260412T180000
DTSTAMP:20260424T115736
CREATED:20260309T201053Z
LAST-MODIFIED:20260309T201053Z
UID:4576-1775995200-1776016800@mipsychicfair.com
SUMMARY:Michigan Psychic Fair at Home 2 Suites by Hilton\, in Taylor\, MI
DESCRIPTION:Come visit one of Michigan’s best psychics! \nA fun & unique venue to get a reading\, get guidance\, connect with a loved one on the other side\, have an energy healing\, and much more. Conveniently available at various locations in the Detroit Metro Area. \n✨ VENDORS: New Readers and Vendors apply to join our event by calling Pauline at 586-219-6360 \n✨ JOIN OUR NEWSLETTER Psychic Readings\, Mediumship\, Tarot-readings\, Palmistry & Healings & More\nhttps://mailchi.mp/michiganpsychicfair/do0b4sj7gl \n 
URL:https://mipsychicfair.com/event/michigan-psychic-fair-in-taylor-wayne-rd/
LOCATION:Taylor – Home2 Suites by Hilton\, 14300 Pardee Road\, Taylor\, MI\, 48180\, United States
CATEGORIES:EXPO,FAIR
ATTACH;FMTTYPE=image/jpeg:https://mipsychicfair.com/wp-content/uploads/2025/10/15.jpg
END:VEVENT
BEGIN:VEVENT
DTSTART;TZID=America/Detroit:20260329T120000
DTEND;TZID=America/Detroit:20260329T180000
DTSTAMP:20260424T115736
CREATED:20260309T201052Z
LAST-MODIFIED:20260309T201052Z
UID:4538-1774785600-1774807200@mipsychicfair.com
SUMMARY:Michigan Psychic Fair at the Holiday Inn in Roseville\, MI
DESCRIPTION:Come visit one of Michigan’s best psychics! \nA fun & unique venue to get a reading\, get guidance\, connect with a loved one on the other side\, have an energy healing\, and much more. Conveniently available at various locations in the Detroit Metro Area. \n✨ VENDORS: New Readers and Vendors apply to join our event by calling Pauline at 586-219-6360 \n✨ JOIN OUR NEWSLETTER Psychic Readings\, Mediumship\, Tarot-readings\, Palmistry & Healings & More\nhttps://mailchi.mp/michiganpsychicfair/do0b4sj7gl
URL:https://mipsychicfair.com/event/michigan-psychic-fair-in-roseville-3/
LOCATION:Roseville – Holiday Inn Express\, Holiday Inn Express 30300 Gratiot Ave\, Roseville\, MI\, United States
CATEGORIES:EXPO,FAIR
ATTACH;FMTTYPE=image/jpeg:https://mipsychicfair.com/wp-content/uploads/2024/11/14.jpg
END:VEVENT
BEGIN:VEVENT
DTSTART;TZID=America/Detroit:20260322T120000
DTEND;TZID=America/Detroit:20260322T180000
DTSTAMP:20260424T115736
CREATED:20260309T201052Z
LAST-MODIFIED:20260309T201052Z
UID:4564-1774180800-1774202400@mipsychicfair.com
SUMMARY:Michigan Psychic Fair at the Comfort Inn in Farmington Hills\, MI
DESCRIPTION:Come visit one of Michigan’s best psychics! \nA fun & unique venue to get a reading\, get guidance\, connect with a loved one on the other side\, have an energy healing\, and much more. Conveniently available at various locations in the Detroit Metro Area. \n✨ VENDORS: New Readers and Vendors apply to join our event by calling Pauline at 586-219-6360 \n✨ JOIN OUR NEWSLETTER Psychic Readings\, Mediumship\, Tarot-readings\, Palmistry & Healings & More\nhttps://mailchi.mp/michiganpsychicfair/do0b4sj7gl
URL:https://mipsychicfair.com/event/michigan-psychic-fair-in-farmingtonhills-4/
LOCATION:Farmington Hills – Comfort Inn\, 30715 W. Twelve Mile Rd\, Farmington Hill\, MI\, United States
CATEGORIES:EXPO,FAIR
ATTACH;FMTTYPE=image/jpeg:https://mipsychicfair.com/wp-content/uploads/2024/11/13.jpg
END:VEVENT
BEGIN:VEVENT
DTSTART;TZID=America/Detroit:20260315T120000
DTEND;TZID=America/Detroit:20260315T180000
DTSTAMP:20260424T115736
CREATED:20260309T201052Z
LAST-MODIFIED:20260309T201052Z
UID:4559-1773576000-1773597600@mipsychicfair.com
SUMMARY:Michigan Psychic Fair at the Holiday Inn in Novi\, MI
DESCRIPTION:Come visit one of Michigan’s best psychics!\n\nA fun & unique venue to get a reading\, get guidance\, connect with a loved one on the other side\, have an energy healing\, and much more. Conveniently available at various locations in the Detroit Metro Area.\n\n✨ VENDORS: New Readers and Vendors apply to join our event by calling Pauline at 586-219-6360\n\n✨ JOIN OUR NEWSLETTER Psychic Readings\, Mediumship\, Tarot-readings\, Palmistry & Healings & More\nhttps://mailchi.mp/michiganpsychicfair/do0b4sj7gl
URL:https://mipsychicfair.com/event/michigan-psychic-fair-in-novi-4/
LOCATION:Novi – Holiday Inn\, 39675 W 12 Mile Rd\, Novi\, MI\, 48377\, United States
CATEGORIES:EXPO,FAIR
ATTACH;FMTTYPE=image/jpeg:https://mipsychicfair.com/wp-content/uploads/2024/11/12.jpg
END:VEVENT
END:VCALENDAR